 BEGIN:VCALENDAR
VERSION:2.0
PRODID:-//Nosh Restaurant &amp; Lounge - ECPv6.9.0//NONSGML v1.0//EN
CALSCALE:GREGORIAN
METHOD:PUBLISH
X-WR-CALNAME:Nosh Restaurant &amp; Lounge
X-ORIGINAL-URL:https://noshloungeatl.com
X-WR-CALDESC:Events for Nosh Restaurant &amp; Lounge
REFRESH-INTERVAL;VALUE=DURATION:PT1H
X-Robots-Tag:noindex
X-PUBLISHED-TTL:PT1H
BEGIN:VTIMEZONE
TZID:UTC
BEGIN:STANDARD
TZOFFSETFROM:+0000
TZOFFSETTO:+0000
TZNAME:UTC
DTSTART:20240101T000000
END:STANDARD
END:VTIMEZONE
BEGIN:VEVENT
DTSTART;TZID=UTC:20241126T150000
DTEND;TZID=UTC:20241127T000000
DTSTAMP:20260420T232643
CREATED:20241121T081551Z
LAST-MODIFIED:20241121T081613Z
UID:3373-1732633200-1732665600@noshloungeatl.com
SUMMARY:The $2 Turn Up
DESCRIPTION:$2 Taco & Tequila Tuesdays at Nosh Lounge\nSpice up your week with $2 Taco & Tequila Tuesdays at Nosh Lounge! Every Tuesday\, enjoy mouthwatering $2 tacos packed with bold flavors\, paired perfectly with smooth $2 tequila shots. It’s the ultimate midweek celebration filled with delicious bites\, refreshing drinks\, and unbeatable vibes. Don’t miss out on the perfect excuse to turn up your Tuesday!
URL:https://noshloungeatl.com/event/the-2-turn-up/
LOCATION:Nosh Lounge\, 360 Edgewood Ave SE\, Atlanta\, 30312\, United States
CATEGORIES:Nosh Lounge
ATTACH;FMTTYPE=image/jpeg:https://noshloungeatl.com/wp-content/uploads/2024/11/noshatl_tacotuesdays_flyer1-v1.jpg
ORGANIZER;CN="Nosh Lounge":MAILTO:marketing@noshloungeatl.com
END:VEVENT
BEGIN:VEVENT
DTSTART;TZID=UTC:20241125T170000
DTEND;TZID=UTC:20241125T200000
DTSTAMP:20260420T232643
CREATED:20241121T080034Z
LAST-MODIFIED:20241121T181154Z
UID:3340-1732554000-1732564800@noshloungeatl.com
SUMMARY:Hate Being Sober
DESCRIPTION:Introducing Hate Being Sober\, our exciting new signature happy hour designed to elevate your evenings! Join us Monday through Friday from 3 PM to 8 PM for unbeatable deals\, including $5 food favorites\, $5 handcrafted cocktails\, and $25 carafes featuring your go-to drinks like Rum Punch\, Margaritas\, and more. Whether you’re unwinding after work or catching up with friends\, Hate Being Sober is the ultimate vibe with delicious bites\, refreshing drinks\, and a lively atmosphere you won’t want to miss. Let the good times roll!
URL:https://noshloungeatl.com/event/hate-being-sober/
LOCATION:Nosh Lounge\, 360 Edgewood Ave SE\, Atlanta\, 30312\, United States
CATEGORIES:Nosh Lounge
ATTACH;FMTTYPE=image/jpeg:https://noshloungeatl.com/wp-content/uploads/2024/11/HateBeingSober.jpg
ORGANIZER;CN="Nosh Lounge":MAILTO:marketing@noshloungeatl.com
END:VEVENT
END:VCALENDAR